View In:
ArcGIS JavaScript
ArcGIS Online Map Viewer
ArcGIS Earth
ArcMap
View Footprint In:
ArcGIS Online Map Viewer
Service Description: Aerial_Photos_2014
Name: Aerial_Photos_2014
Description:
Single Fused Map Cache: false
Extent:
XMin: 2190499.7678162493
YMin: 1727499.8781449809
XMax: 2228000.0178162493
YMax: 1771000.1281449809
Spatial Reference: 103038
(6457)
VCSWkid(5703)
LatestVCSWkid(5703)
Initial Extent:
XMin: 2190499.7678162493
YMin: 1727499.8781449809
XMax: 2228000.0178162493
YMax: 1771000.1281449809
Spatial Reference: 103038
(6457)
VCSWkid(5703)
LatestVCSWkid(5703)
Full Extent:
XMin: 2190499.7678162493
YMin: 1727499.8781449809
XMax: 2228000.0178162493
YMax: 1771000.1281449809
Spatial Reference: 103038
(6457)
VCSWkid(5703)
LatestVCSWkid(5703)
Pixel Size X: 0.25
Pixel Size Y: 0.25
Band Count: 3
Pixel Type: U8
RasterFunction Infos: {"rasterFunctionInfos": [{
"name": "None",
"description": "",
"help": ""
}]}
Mensuration Capabilities: Basic
Has Histograms: true
Has Colormap: false
Has Multi Dimensions : false
Rendering Rule:
Min Scale: 0
Max Scale: 0
Copyright Text:
Service Data Type: esriImageServiceDataTypeRGB
Min Values: 0, 0, 0
Max Values: 255, 255, 255
Mean Values: 99.54707267553086, 99.10215509792026, 82.99236196473207
Standard Deviation Values: 41.77635561319472, 38.49774850522232, 32.52525875816561
Object ID Field:
Fields:
None
Default Mosaic Method: Center
Allowed Mosaic Methods:
SortField:
SortValue: null
Mosaic Operator: First
Default Compression Quality: 75
Default Resampling Method: Bilinear
Max Record Count: null
Max Image Height: 4100
Max Image Width: 15000
Max Download Image Count: null
Max Mosaic Image Count: null
Allow Raster Function: true
Allow Compute TiePoints: false
Supports Statistics: false
Supports Advanced Queries: false
Use StandardizedQueries: true
Raster Type Infos:
Name: Raster Dataset
Description: Supports all ArcGIS Raster Datasets
Help:
Has Raster Attribute Table: false
Edit Fields Info: null
Ownership Based AccessControl For Rasters: null
Child Resources:
Info
Histograms
Key Properties
Legend
MultiDimensionalInfo
rasterFunctionInfos
Supported Operations:
Export Image
Identify
Measure
Compute Histograms
Compute Statistics Histograms
Get Samples
Compute Class Statistics
Query Boundary