{
 "currentVersion": 10.61,
 "serviceDescription": "Aerial_Photos_2014",
 "name": "Aerial_Photos_2014",
 "description": "",
 "extent": {
  "xmin": 2190499.7678162493,
  "ymin": 1727499.8781449809,
  "xmax": 2228000.0178162493,
  "ymax": 1771000.1281449809,
  "spatialReference": {
   "wkid": 103038,
   "latestWkid": 6457,
   "vcsWkid": 5703,
   "latestVcsWkid": 5703
  }
 },
 "initialExtent": {
  "xmin": 2190499.7678162493,
  "ymin": 1727499.8781449809,
  "xmax": 2228000.0178162493,
  "ymax": 1771000.1281449809,
  "spatialReference": {
   "wkid": 103038,
   "latestWkid": 6457,
   "vcsWkid": 5703,
   "latestVcsWkid": 5703
  }
 },
 "fullExtent": {
  "xmin": 2190499.7678162493,
  "ymin": 1727499.8781449809,
  "xmax": 2228000.0178162493,
  "ymax": 1771000.1281449809,
  "spatialReference": {
   "wkid": 103038,
   "latestWkid": 6457,
   "vcsWkid": 5703,
   "latestVcsWkid": 5703
  }
 },
 "heightModelInfo": {
  "heightModel": "gravity_related_height",
  "vertCRS": "NAVD_1988",
  "heightUnit": "meter"
 },
 "pixelSizeX": 0.25,
 "pixelSizeY": 0.25,
 "bandCount": 3,
 "pixelType": "U8",
 "minPixelSize": 0,
 "maxPixelSize": 0,
 "copyrightText": "",
 "serviceDataType": "esriImageServiceDataTypeRGB",
 "minValues": [
  0,
  0,
  0
 ],
 "maxValues": [
  255,
  255,
  255
 ],
 "meanValues": [
  99.54707267553086,
  99.10215509792026,
  82.99236196473207
 ],
 "stdvValues": [
  41.77635561319472,
  38.49774850522232,
  32.52525875816561
 ],
 "objectIdField": "",
 "fields": [],
 "capabilities": "Image,Metadata,Mensuration",
 "defaultMosaicMethod": "Center",
 "allowedMosaicMethods": "",
 "sortField": "",
 "sortValue": null,
 "mosaicOperator": "First",
 "defaultCompressionQuality": 75,
 "defaultResamplingMethod": "Bilinear",
 "maxImageHeight": 4100,
 "maxImageWidth": 15000,
 "allowRasterFunction": true,
 "rasterFunctionInfos": [
  {
   "name": "None",
   "description": "",
   "help": ""
  }
 ],
 "rasterTypeInfos": [
  {
   "name": "Raster Dataset",
   "description": "Supports all ArcGIS Raster Datasets",
   "help": ""
  }
 ],
 "mensurationCapabilities": "Basic",
 "hasHistograms": true,
 "hasColormap": false,
 "hasRasterAttributeTable": false,
 "minScale": 0,
 "maxScale": 0,
 "exportTilesAllowed": false,
 "hasMultidimensions": false,
 "supportsStatistics": false,
 "supportsAdvancedQueries": false,
 "editFieldsInfo": null,
 "ownershipBasedAccessControlForRasters": null,
 "allowComputeTiePoints": false,
 "useStandardizedQueries": true,
 "advancedQueryCapabilities": {
  "useStandardizedQueries": true,
  "supportsStatistics": false,
  "supportsOrderBy": false,
  "supportsDistinct": false,
  "supportsPagination": false
 },
 "spatialReference": {
  "wkid": 103038,
  "latestWkid": 6457,
  "vcsWkid": 5703,
  "latestVcsWkid": 5703
 }
}
