{
 "currentVersion": 10.61,
 "serviceDescription": "Aerial_Photos_2019",
 "name": "Aerial_Photos_2019",
 "description": "",
 "extent": {
  "xmin": 2190575.7648307383,
  "ymin": 1722926.162871927,
  "xmax": 2228565.2648307383,
  "ymax": 1771005.412871927,
  "spatialReference": {
   "wkid": 103038,
   "latestWkid": 6457
  }
 },
 "initialExtent": {
  "xmin": 2190575.7648307383,
  "ymin": 1722926.162871927,
  "xmax": 2228565.2648307383,
  "ymax": 1771005.412871927,
  "spatialReference": {
   "wkid": 103038,
   "latestWkid": 6457
  }
 },
 "fullExtent": {
  "xmin": 2190575.7648307383,
  "ymin": 1722926.162871927,
  "xmax": 2228565.2648307383,
  "ymax": 1771005.412871927,
  "spatialReference": {
   "wkid": 103038,
   "latestWkid": 6457
  }
 },
 "pixelSizeX": 0.25,
 "pixelSizeY": 0.25,
 "bandCount": 4,
 "pixelType": "U8",
 "minPixelSize": 0,
 "maxPixelSize": 0,
 "copyrightText": "",
 "serviceDataType": "esriImageServiceDataTypeGeneric",
 "minValues": [],
 "maxValues": [],
 "meanValues": [],
 "stdvValues": [],
 "objectIdField": "",
 "fields": [],
 "capabilities": "Image,Metadata,Mensuration",
 "defaultMosaicMethod": "Center",
 "allowedMosaicMethods": "",
 "sortField": "",
 "sortValue": null,
 "mosaicOperator": "First",
 "defaultCompressionQuality": 75,
 "defaultResamplingMethod": "Bilinear",
 "maxImageHeight": 4100,
 "maxImageWidth": 15000,
 "allowRasterFunction": true,
 "rasterFunctionInfos": [
  {
   "name": "None",
   "description": "",
   "help": ""
  }
 ],
 "rasterTypeInfos": [
  {
   "name": "Raster Dataset",
   "description": "Supports all ArcGIS Raster Datasets",
   "help": ""
  }
 ],
 "mensurationCapabilities": "Basic",
 "hasHistograms": false,
 "hasColormap": false,
 "hasRasterAttributeTable": false,
 "minScale": 0,
 "maxScale": 0,
 "exportTilesAllowed": false,
 "hasMultidimensions": false,
 "supportsStatistics": false,
 "supportsAdvancedQueries": false,
 "editFieldsInfo": null,
 "ownershipBasedAccessControlForRasters": null,
 "allowComputeTiePoints": false,
 "useStandardizedQueries": true,
 "advancedQueryCapabilities": {
  "useStandardizedQueries": true,
  "supportsStatistics": false,
  "supportsOrderBy": false,
  "supportsDistinct": false,
  "supportsPagination": false
 },
 "spatialReference": {
  "wkid": 103038,
  "latestWkid": 6457
 }
}
